BEGIN:VCALENDAR
VERSION:2.0
PRODID:-//KFV-Wetterau//NONSGML kigkonsult.se iCalcreator 2.41.92//
CALSCALE:GREGORIAN
METHOD:PUBLISH
UID:33323730-3963-4434-b166-626666396637
X-WR-CALNAME:iCagenda
X-WR-CALDESC:Event Management Extension for Joomla!
X-WR-RELCALID:3E26604A-50F4-4449-8B3E-E4F4932D05B5
X-WR-TIMEZONE:Europe/Berlin
BEGIN:VTIMEZONE
TZID:Europe/Berlin
TZUNTIL:20280326T010000Z
BEGIN:STANDARD
TZNAME:CET
DTSTART:20251026T030000
TZOFFSETFROM:+0200
TZOFFSETTO:+0100
RDATE:20261025T030000
RDATE:20271031T030000
END:STANDARD
BEGIN:DAYLIGHT
TZNAME:CEST
DTSTART:20260329T020000
TZOFFSETFROM:+0100
TZOFFSETTO:+0200
RDATE:20270328T020000
END:DAYLIGHT
END:VTIMEZONE
BEGIN:VEVENT
UID:61636465-3130-4534-b431-656333653739
DTSTAMP:20260423T094049Z
CATEGORIES:Feste
CLASS:PUBLIC
DESCRIPTION;ALTREP="CID:<FFFF__=0ABBE548DFE235B58f9e8a93d@coffeebean.com>":
 Der Termin für den Hessentag in Fulda ist bestätigt!
DTSTART:20260611T220000Z
DTEND:20260620T220000Z
GEO:+50.555809;+9.680845
LOCATION:Fulda
ORGANIZER:
SEQUENCE:1
SUMMARY:66. Hessentag
TRANSP:OPAQUE
URL:https://cms.kfv-wetterau.de/termine/249-55-hessentag-12
END:VEVENT
END:VCALENDAR
