BEGIN:VCALENDAR
VERSION:2.0
PRODID:-//KFV-Wetterau//NONSGML kigkonsult.se iCalcreator 2.41.92//
CALSCALE:GREGORIAN
METHOD:PUBLISH
UID:32613439-6335-4763-a137-323136626532
X-WR-CALNAME:iCagenda
X-WR-CALDESC:Event Management Extension for Joomla!
X-WR-RELCALID:3E26604A-50F4-4449-8B3E-E4F4932D05B5
X-WR-TIMEZONE:Europe/Berlin
BEGIN:VTIMEZONE
TZID:Europe/Berlin
TZUNTIL:20300331T010000Z
BEGIN:STANDARD
TZNAME:CET
DTSTART:20271031T030000
TZOFFSETFROM:+0200
TZOFFSETTO:+0100
RDATE:20281029T030000
RDATE:20291028T030000
END:STANDARD
BEGIN:DAYLIGHT
TZNAME:CEST
DTSTART:20280326T020000
TZOFFSETFROM:+0100
TZOFFSETTO:+0200
RDATE:20290325T020000
END:DAYLIGHT
END:VTIMEZONE
BEGIN:VEVENT
UID:36316565-3632-4231-a632-333366393661
DTSTAMP:20260420T120812Z
CATEGORIES:Übungen & Wettbewerbe
CLASS:PUBLIC
DESCRIPTION;ALTREP="CID:<FFFF__=0ABBE548DFE235B58f9e8a93d@coffeebean.com>":
 Der Austragungsort für den Bezirksentscheid wird noch bekannt gegeben!
DTSTART:20280623T220000Z
DTEND:20280623T220000Z
GEO:00;0
LOCATION:
ORGANIZER:
SEQUENCE:1
SUMMARY:Hessische Feuerwehrleistungsübungen\, Bezirksentscheid Hessen-Darms
 tadt
TRANSP:OPAQUE
URL:https://cms.kfv-wetterau.de/termine/250-hessische-feuerwehrleistungsueb
 ungen-bezirksentscheid-hessen-darmstadt-6/2028-06-24-00-00
END:VEVENT
END:VCALENDAR
